{"text_format":"1","workbook":"xlsx","n_sheets":3,"sheets":["取りまとめシート","男子申込(形・組手共通)","女子申込(形・組手共通) "],"not_rendered":{"charts":0,"images":0,"macros":1,"external_links":0,"defined_names":4,"comments":2,"pivot_tables":0},"unopened":[],"bounds":{"document_bytes":16777216,"sheet_cells":100000,"rows_first":2000,"rows_last":500,"rows_between":2000,"halvings":0,"cell_chars":16384,"cell_head_chars":4096},"cells_cut":0,"cells_raw":0,"read":"whole","date_system":"1900"}

{"sheet":"取りまとめシート","index":0,"n_rows":31,"n_cols":13,"rows_kept":31,"cut":false,"hidden":false,"merged":[[14,5,14,6],[22,5,22,6],[21,5,21,6],[18,5,18,6],[17,5,17,6],[16,5,16,6],[15,5,15,6],[0,0,0,9],[1,5,1,9],[1,2,1,3],[5,1,5,7],[3,0,4,0]]}
["第36回佐賀県少年少女空手道選手権大会申込取りまとめ表"]
[null,"申込ファイル送信先","y-mori@saga-karate.com",null,"ファイルの保存","ファイル名は「【団体名】R6県少年少女大会申込」で保存し送信してください。"]
[null,"申込締切","４月１９日（金）※申込締切までに参加費等の送金をお願いいたします。"]
["入力必須\n項　　目","団体名","個人戦参加費","団体形参加費","広告協賛金額","合計金額\n（送金金額）","送金日・送金予定日","申込責任者","連絡先携帯番号",null,null,null,"旭空手道クラブ"]
[null,null,{"$f":"3000*(J9+J11+J12+J14)","v":0},{"$f":"(J10+J13)*4500","v":0},{"$f":"C7*20000","v":0},{"$f":"SUM(C5:E5)","v":0},null,null,null,null,null,null,"有田町空手道連盟"]
[null,"　　　　　　※黄色いセルに入力し各申込シートに入力してください。（自動計算されます。）",null,null,null,null,null,null,null,null,null,null,"小城市空手道クラブ"]
[null,"広告協賛",null,"ページ","広告原稿はメールに添付してください。",null,null,null,null,null,null,null,"北茂安空手道クラブ"]
["団体名","種目",null,"小学１年","小学２年","小学３年","小学４年","小学５年","小学６年","合計",null,1,"基山空手道クラブ"]
[{"$f":"$B$5","v":0},"男子形",null,{"$f":"'男子申込(形・組手共通)'!$Q4","v":0},{"$f":"'男子申込(形・組手共通)'!$Q5","v":0},{"$f":"'男子申込(形・組手共通)'!$Q6","v":0},{"$f":"'男子申込(形・組手共通)'!$Q7","v":0},{"$f":"'男子申込(形・組手共通)'!$Q8","v":0},{"$f":"'男子申込(形・組手共通)'!$Q9","v":0},{"$f":"SUM(C9:I9)","v":0},null,0.5,"剛柔佐賀県支部"]
[0,"男子団体形",null,null,null,null,{"$f":"'男子申込(形・組手共通)'!$R7","v":0},{"$f":"'男子申込(形・組手共通)'!$R8","v":0},{"$f":"'男子申込(形・組手共通)'!$R9","v":0},{"$f":"IF(SUM(G10:I10)=0,0,IF(AND(3<=SUM(G10:I10),SUM(G10:I10)<=4),1,IF(AND(6<=SUM(G10:I10),SUM(G10:I10)<=8),2,\"参加者要確認\")))","v":0},null,0.25,"江北空手道クラブ"]
[0,"男子組手",null,{"$f":"'男子申込(形・組手共通)'!$S4","v":0},{"$f":"'男子申込(形・組手共通)'!$S5","v":0},{"$f":"'男子申込(形・組手共通)'!$S6","v":0},{"$f":"'男子申込(形・組手共通)'!$S7","v":0},{"$f":"'男子申込(形・組手共通)'!$S8","v":0},{"$f":"'男子申込(形・組手共通)'!$S9","v":0},0,null,null,"古賀道場"]
[0,"女子形",null,{"$f":"'女子申込(形・組手共通) '!$Q4","v":0},{"$f":"'女子申込(形・組手共通) '!$Q5","v":0},{"$f":"'女子申込(形・組手共通) '!$Q6","v":0},{"$f":"'女子申込(形・組手共通) '!$Q7","v":0},{"$f":"'女子申込(形・組手共通) '!$Q8","v":0},{"$f":"'女子申込(形・組手共通) '!$Q9","v":0},0,null,null,"佐賀大和空手道場"]
[0,"女子団体形",null,null,null,null,{"$f":"'女子申込(形・組手共通) '!$R7","v":0},{"$f":"'女子申込(形・組手共通) '!$R8","v":0},{"$f":"'女子申込(形・組手共通) '!$R9","v":0},{"$f":"IF(SUM(G13:I13)=0,0,IF(AND(3<=SUM(G13:I13),SUM(G13:I13)<=4),1,IF(AND(6<=SUM(G13:I13),SUM(G13:I13)<=8),2,\"参加者要確認\")))","v":0},null,null,"三神会"]
[0,"女子組手",null,{"$f":"'女子申込(形・組手共通) '!$S4","v":0},{"$f":"'女子申込(形・組手共通) '!$S5","v":0},{"$f":"'女子申込(形・組手共通) '!$S6","v":0},{"$f":"'女子申込(形・組手共通) '!$S7","v":0},{"$f":"'女子申込(形・組手共通) '!$S8","v":0},{"$f":"'女子申込(形・組手共通) '!$S9","v":0},0,null,null,"止戈館"]
["団体名","派遣審判員氏名","組手資格","形資格","流派","住所",null,"連絡先電話番号",null,null,null,"全国","誠道館"]
[{"$f":"$B$5","v":0},null,null,null,null,null,null,null,null,null,null,"地区","唐空会"]
[0,null,null,null,null,null,null,null,null,null,null,"都道府県","鳥栖空手道クラブ"]
[0,null,null,null,null,null,null,null,null,null,null,null,"中原空手道クラブ"]
[0,null,null,null,null,null,null,null,null,null,"剛柔流",null,"日本空手協会佐賀県本部"]
[0,null,null,null,null,null,null,null,null,null,"松濤館流",null,"東背振空手クラブ"]
[0,null,null,null,null,null,null,null,null,null,"糸東流",null,"麓空手道クラブ"]
[0,null,null,null,null,null,null,null,null,null,"和道流",null,"三根空手道クラブ"]
[0,null,null,null,null,null,null,null,null,null,"諸派",null,"諸富町空手道連盟"]
["団体名","氏名","役職(監督orコーチ)","保護者監督",null,null,null,null,null,null,null,null,"ワールド松濤館"]
[{"$f":"$B$5","v":0},null,null,null,null,null,null,null,null,null,"監督",null,"拳城館"]
[0,null,null,null,null,null,null,null,null,null,"コーチ",null,"鹿島空手クラブ"]
[0,null,null,null,null,null,null,null,null,null,null,null,"太良空手道クラブ"]
[null,null,null,null,null,null,null,null,null,null,{"$f":"IF($J$10=0,0,1)*5000","v":0}]
[null,null,null,null,null,null,null,null,null,null,{"$f":"IF($J$13=0,0,1)*5000","v":0}]
[null,null,null,null,"資格者合計"]
[null,null,null,null,{"$f":"COUNTIF(D25:D27,\"○\")","v":0}]

{"sheet":"男子申込(形・組手共通)","index":1,"n_rows":109,"n_cols":19,"rows_kept":109,"cut":false,"hidden":false,"merged":[[3,0,4,0],[3,8,3,9],[3,2,4,2],[1,17,2,17],[3,5,3,7],[3,4,4,4],[3,3,4,3],[3,1,4,1],[3,10,4,10],[0,0,0,9],[1,0,2,9],[1,16,2,16],[1,18,2,18],[0,15,0,18],[1,15,2,15]]}
["第３６回佐賀県少年少女空手道選手権大会　参加申込書（男子）",null,null,null,null,null,null,null,null,null,null,null,null,null,null,"参加人数表（男子）"]
["注意1：名前は左詰めです。姓の前にスペースを入れないで下さい。\n注意2：「氏名」および「ふりがな」の入力は姓と名の間は必ず全角スペースを入れて下さい。",null,null,null,null,null,null,null,null,null,null,null,null,null,null,"学年","形","団体　　　形","組手"]
[]
["番号","学年","所属団体名\n（自動入力）","氏　　名","ふりがな","参加種目",null,null,"昨年度同大会の順位",null,null,null,null,null,1,"小学１年",{"$f":"COUNTIF($M$10:$M$109,\"小学１年\")","v":0},"-",{"$f":"COUNTIF($O$10:$O$109,\"小学１年\")","v":0}]
[null,null,null,null,null,"形","団体形","組手","形","組手",null,null,"〇",null,2,"小学２年",{"$f":"COUNTIF($M$10:$M$109,\"小学２年\")","v":0},"-",{"$f":"COUNTIF($O$10:$O$109,\"小学２年\")","v":0}]
[1,null,{"$f":"IF(D6=\"\",\"\",取りまとめシート!$B$5)","v":""},null,null,null,null,null,null,null,null,null,"－",null,3,"小学３年",{"$f":"COUNTIF($M$10:$M$109,\"小学３年\")","v":0},"-",{"$f":"COUNTIF($O$10:$O$109,\"小学３年\")","v":0}]
[2,null,{"$f":"IF(D7=\"\",\"\",取りまとめシート!$B$5)","v":""},null,null,null,null,null,null,null,null,null,null,null,4,"小学４年",{"$f":"COUNTIF($M$10:$M$109,\"小学４年\")","v":0},{"$f":"COUNTIF($N$10:$N$109,\"小学４年\")","v":0},{"$f":"COUNTIF($O$10:$O$109,\"小学４年\")","v":0}]
[3,null,{"$f":"IF(D8=\"\",\"\",取りまとめシート!$B$5)","v":""},null,null,null,null,null,null,null,null,null,null,null,5,"小学５年",{"$f":"COUNTIF($M$10:$M$109,\"小学５年\")","v":0},{"$f":"COUNTIF($N$10:$N$109,\"小学５年\")","v":0},{"$f":"COUNTIF($O$10:$O$109,\"小学５年\")","v":0}]
[4,null,{"$f":"IF(D9=\"\",\"\",取りまとめシート!$B$5)","v":""},null,null,null,null,null,null,null,null,null,null,null,6,"小学６年",{"$f":"COUNTIF($M$10:$M$109,\"小学６年\")","v":0},{"$f":"COUNTIF($N$10:$N$109,\"小学６年\")","v":0},{"$f":"COUNTIF($O$10:$O$109,\"小学６年\")","v":0}]
[5,null,{"$f":"IF(D10=\"\",\"\",取りまとめシート!$B$5)","v":""},null,null,null,null,null,null,null,null,null,{"$f":"IF(F6=\"〇\",VLOOKUP($B6,$O$3:$P$9,2,0),\"\")","v":""},{"$f":"IF(G6=\"〇\",VLOOKUP($B6,$O$3:$P$9,2,0),\"\")","v":""},{"$f":"IF(H6=\"〇\",VLOOKUP($B6,$O$3:$P$9,2,0),\"\")","v":""}]
[6,null,{"$f":"IF(D11=\"\",\"\",取りまとめシート!$B$5)","v":""},null,null,null,null,null,null,null,null,null,{"$f":"IF(F7=\"〇\",VLOOKUP($B7,$O$3:$P$9,2,0),\"\")","v":""},{"$f":"IF(G7=\"〇\",VLOOKUP($B7,$O$3:$P$9,2,0),\"\")","v":""},""]
[7,null,{"$f":"IF(D12=\"\",\"\",取りまとめシート!$B$5)","v":""},null,null,null,null,null,null,null,null,null,"","",""]
[8,null,{"$f":"IF(D13=\"\",\"\",取りまとめシート!$B$5)","v":""},null,null,null,null,null,null,null,null,null,"","",""]
[9,null,{"$f":"IF(D14=\"\",\"\",取りまとめシート!$B$5)","v":""},null,null,null,null,null,null,null,null,null,"","",""]
[10,null,{"$f":"IF(D15=\"\",\"\",取りまとめシート!$B$5)","v":""},null,null,null,null,null,null,null,null,null,"","",""]
[11,null,{"$f":"IF(D16=\"\",\"\",取りまとめシート!$B$5)","v":""},null,null,null,null,null,null,null,null,null,"","",""]
[12,null,{"$f":"IF(D17=\"\",\"\",取りまとめシート!$B$5)","v":""},null,null,null,null,null,null,null,null,null,"","",""]
[13,null,{"$f":"IF(D18=\"\",\"\",取りまとめシート!$B$5)","v":""},null,null,null,null,null,null,null,null,null,"","",""]
[14,null,{"$f":"IF(D19=\"\",\"\",取りまとめシート!$B$5)","v":""},null,null,null,null,null,null,null,null,null,"",{"$f":"IF(G15=\"〇\",VLOOKUP($B15,$O$3:$P$9,2,0),\"\")","v":""},""]
[15,null,{"$f":"IF(D20=\"\",\"\",取りまとめシート!$B$5)","v":""},null,null,null,null,null,null,null,null,null,"","",""]
[16,null,{"$f":"IF(D21=\"\",\"\",取りまとめシート!$B$5)","v":""},null,null,null,null,null,null,null,null,null,"","",""]
[17,null,{"$f":"IF(D22=\"\",\"\",取りまとめシート!$B$5)","v":""},null,null,null,null,null,null,null,null,null,"","",""]
[18,null,{"$f":"IF(D23=\"\",\"\",取りまとめシート!$B$5)","v":""},null,null,null,null,null,null,null,null,null,"","",""]
[19,null,{"$f":"IF(D24=\"\",\"\",取りまとめシート!$B$5)","v":""},null,null,null,null,null,null,null,null,null,"","",""]
[20,null,{"$f":"IF(D25=\"\",\"\",取りまとめシート!$B$5)","v":""},null,null,null,null,null,null,null,null,null,"","",""]
[21,null,{"$f":"IF(D26=\"\",\"\",取りまとめシート!$B$5)","v":""},null,null,null,null,null,null,null,null,null,"","",""]
[22,null,{"$f":"IF(D27=\"\",\"\",取りまとめシート!$B$5)","v":""},null,null,null,null,null,null,null,null,null,"","",""]
[23,null,{"$f":"IF(D28=\"\",\"\",取りまとめシート!$B$5)","v":""},null,null,null,null,null,null,null,null,null,"","",""]
[24,null,{"$f":"IF(D29=\"\",\"\",取りまとめシート!$B$5)","v":""},null,null,null,null,null,null,null,null,null,"","",""]
[25,null,{"$f":"IF(D30=\"\",\"\",取りまとめシート!$B$5)","v":""},null,null,null,null,null,null,null,null,null,"","",""]
[26,null,{"$f":"IF(D31=\"\",\"\",取りまとめシート!$B$5)","v":""},null,null,null,null,null,null,null,null,null,"","",""]
[27,null,{"$f":"IF(D32=\"\",\"\",取りまとめシート!$B$5)","v":""},null,null,null,null,null,null,null,null,null,"","",""]
[28,null,{"$f":"IF(D33=\"\",\"\",取りまとめシート!$B$5)","v":""},null,null,null,null,null,null,null,null,null,"","",""]
[29,null,{"$f":"IF(D34=\"\",\"\",取りまとめシート!$B$5)","v":""},null,null,null,null,null,null,null,null,null,"","",""]
[30,null,{"$f":"IF(D35=\"\",\"\",取りまとめシート!$B$5)","v":""},null,null,null,null,null,null,null,null,null,"","",""]
[31,null,{"$f":"IF(D36=\"\",\"\",取りまとめシート!$B$5)","v":""},null,null,null,null,null,null,null,null,null,"","",""]
[32,null,{"$f":"IF(D37=\"\",\"\",取りまとめシート!$B$5)","v":""},null,null,null,null,null,null,null,null,null,"","",""]
[33,null,{"$f":"IF(D38=\"\",\"\",取りまとめシート!$B$5)","v":""},null,null,null,null,null,null,null,null,null,"","",""]
[34,null,{"$f":"IF(D39=\"\",\"\",取りまとめシート!$B$5)","v":""},null,null,null,null,null,null,null,null,null,"","",""]
[35,null,{"$f":"IF(D40=\"\",\"\",取りまとめシート!$B$5)","v":""},null,null,null,null,null,null,null,null,null,"","",""]
[36,null,{"$f":"IF(D41=\"\",\"\",取りまとめシート!$B$5)","v":""},null,null,null,null,null,null,null,null,null,"","",""]
[37,null,{"$f":"IF(D42=\"\",\"\",取りまとめシート!$B$5)","v":""},null,null,null,null,null,null,null,null,null,{"$f":"IF(F38=\"〇\",VLOOKUP($B38,$O$3:$P$9,2,0),\"\")","v":""},"",{"$f":"IF(H38=\"〇\",VLOOKUP($B38,$O$3:$P$9,2,0),\"\")","v":""}]
[38,null,{"$f":"IF(D43=\"\",\"\",取りまとめシート!$B$5)","v":""},null,null,null,null,null,null,null,null,null,"","",""]
[39,null,{"$f":"IF(D44=\"\",\"\",取りまとめシート!$B$5)","v":""},null,null,null,null,null,null,null,null,null,"","",""]
[40,null,{"$f":"IF(D45=\"\",\"\",取りまとめシート!$B$5)","v":""},null,null,null,null,null,null,null,null,null,"","",""]
[41,null,{"$f":"IF(D46=\"\",\"\",取りまとめシート!$B$5)","v":""},null,null,null,null,null,null,null,null,null,"","",""]
[42,null,{"$f":"IF(D47=\"\",\"\",取りまとめシート!$B$5)","v":""},null,null,null,null,null,null,null,null,null,"","",""]
[43,null,{"$f":"IF(D48=\"\",\"\",取りまとめシート!$B$5)","v":""},null,null,null,null,null,null,null,null,null,"","",""]
[44,null,{"$f":"IF(D49=\"\",\"\",取りまとめシート!$B$5)","v":""},null,null,null,null,null,null,null,null,null,"","",""]
[45,null,{"$f":"IF(D50=\"\",\"\",取りまとめシート!$B$5)","v":""},null,null,null,null,null,null,null,null,null,"","",""]
[46,null,{"$f":"IF(D51=\"\",\"\",取りまとめシート!$B$5)","v":""},null,null,null,null,null,null,null,null,null,"","",""]
[47,null,{"$f":"IF(D52=\"\",\"\",取りまとめシート!$B$5)","v":""},null,null,null,null,null,null,null,null,null,"","",""]
[48,null,{"$f":"IF(D53=\"\",\"\",取りまとめシート!$B$5)","v":""},null,null,null,null,null,null,null,null,null,"","",""]
[49,null,{"$f":"IF(D54=\"\",\"\",取りまとめシート!$B$5)","v":""},null,null,null,null,null,null,null,null,null,"","",""]
[50,null,{"$f":"IF(D55=\"\",\"\",取りまとめシート!$B$5)","v":""},null,null,null,null,null,null,null,null,null,"","",""]
[51,null,{"$f":"IF(D56=\"\",\"\",取りまとめシート!$B$5)","v":""},null,null,null,null,null,null,null,null,null,"","",""]
[52,null,{"$f":"IF(D57=\"\",\"\",取りまとめシート!$B$5)","v":""},null,null,null,null,null,null,null,null,null,"","",""]
[53,null,{"$f":"IF(D58=\"\",\"\",取りまとめシート!$B$5)","v":""},null,null,null,null,null,null,null,null,null,"","",""]
[54,null,{"$f":"IF(D59=\"\",\"\",取りまとめシート!$B$5)","v":""},null,null,null,null,null,null,null,null,null,"","",""]
[55,null,{"$f":"IF(D60=\"\",\"\",取りまとめシート!$B$5)","v":""},null,null,null,null,null,null,null,null,null,"","",""]
[56,null,{"$f":"IF(D61=\"\",\"\",取りまとめシート!$B$5)","v":""},null,null,null,null,null,null,null,null,null,"","",""]
[57,null,{"$f":"IF(D62=\"\",\"\",取りまとめシート!$B$5)","v":""},null,null,null,null,null,null,null,null,null,"","",""]
[58,null,{"$f":"IF(D63=\"\",\"\",取りまとめシート!$B$5)","v":""},null,null,null,null,null,null,null,null,null,"","",""]
[59,null,{"$f":"IF(D64=\"\",\"\",取りまとめシート!$B$5)","v":""},null,null,null,null,null,null,null,null,null,"","",""]
[60,null,{"$f":"IF(D65=\"\",\"\",取りまとめシート!$B$5)","v":""},null,null,null,null,null,null,null,null,null,"","",""]
[61,null,{"$f":"IF(D66=\"\",\"\",取りまとめシート!$B$5)","v":""},null,null,null,null,null,null,null,null,null,"","",""]
[62,null,{"$f":"IF(D67=\"\",\"\",取りまとめシート!$B$5)","v":""},null,null,null,null,null,null,null,null,null,"","",""]
[63,null,{"$f":"IF(D68=\"\",\"\",取りまとめシート!$B$5)","v":""},null,null,null,null,null,null,null,null,null,"","",""]
[64,null,{"$f":"IF(D69=\"\",\"\",取りまとめシート!$B$5)","v":""},null,null,null,null,null,null,null,null,null,"","",""]
[65,null,{"$f":"IF(D70=\"\",\"\",取りまとめシート!$B$5)","v":""},null,null,null,null,null,null,null,null,null,"","",""]
[66,null,{"$f":"IF(D71=\"\",\"\",取りまとめシート!$B$5)","v":""},null,null,null,null,null,null,null,null,null,"","",""]
[67,null,{"$f":"IF(D72=\"\",\"\",取りまとめシート!$B$5)","v":""},null,null,null,null,null,null,null,null,null,"","",""]
[68,null,{"$f":"IF(D73=\"\",\"\",取りまとめシート!$B$5)","v":""},null,null,null,null,null,null,null,null,null,"","",""]
[69,null,{"$f":"IF(D74=\"\",\"\",取りまとめシート!$B$5)","v":""},null,null,null,null,null,null,null,null,null,{"$f":"IF(F70=\"〇\",VLOOKUP($B70,$O$3:$P$9,2,0),\"\")","v":""},"",{"$f":"IF(H70=\"〇\",VLOOKUP($B70,$O$3:$P$9,2,0),\"\")","v":""}]
[70,null,{"$f":"IF(D75=\"\",\"\",取りまとめシート!$B$5)","v":""},null,null,null,null,null,null,null,null,null,"",{"$f":"IF(G71=\"〇\",VLOOKUP($B71,$O$3:$P$9,2,0),\"\")","v":""},""]
[71,null,{"$f":"IF(D76=\"\",\"\",取りまとめシート!$B$5)","v":""},null,null,null,null,null,null,null,null,null,"","",""]
[72,null,{"$f":"IF(D77=\"\",\"\",取りまとめシート!$B$5)","v":""},null,null,null,null,null,null,null,null,null,"","",""]
[73,null,{"$f":"IF(D78=\"\",\"\",取りまとめシート!$B$5)","v":""},null,null,null,null,null,null,null,null,null,"","",""]
[74,null,{"$f":"IF(D79=\"\",\"\",取りまとめシート!$B$5)","v":""},null,null,null,null,null,null,null,null,null,"","",""]
[75,null,{"$f":"IF(D80=\"\",\"\",取りまとめシート!$B$5)","v":""},null,null,null,null,null,null,null,null,null,"","",""]
[76,null,{"$f":"IF(D81=\"\",\"\",取りまとめシート!$B$5)","v":""},null,null,null,null,null,null,null,null,null,"","",""]
[77,null,{"$f":"IF(D82=\"\",\"\",取りまとめシート!$B$5)","v":""},null,null,null,null,null,null,null,null,null,"","",""]
[78,null,{"$f":"IF(D83=\"\",\"\",取りまとめシート!$B$5)","v":""},null,null,null,null,null,null,null,null,null,"","",""]
[79,null,{"$f":"IF(D84=\"\",\"\",取りまとめシート!$B$5)","v":""},null,null,null,null,null,null,null,null,null,"","",""]
[80,null,{"$f":"IF(D85=\"\",\"\",取りまとめシート!$B$5)","v":""},null,null,null,null,null,null,null,null,null,"","",""]
[81,null,{"$f":"IF(D86=\"\",\"\",取りまとめシート!$B$5)","v":""},null,null,null,null,null,null,null,null,null,"","",""]
[82,null,{"$f":"IF(D87=\"\",\"\",取りまとめシート!$B$5)","v":""},null,null,null,null,null,null,null,null,null,"","",""]
[83,null,{"$f":"IF(D88=\"\",\"\",取りまとめシート!$B$5)","v":""},null,null,null,null,null,null,null,null,null,"","",""]
[84,null,{"$f":"IF(D89=\"\",\"\",取りまとめシート!$B$5)","v":""},null,null,null,null,null,null,null,null,null,"","",""]
[85,null,{"$f":"IF(D90=\"\",\"\",取りまとめシート!$B$5)","v":""},null,null,null,null,null,null,null,null,null,"","",""]
[86,null,{"$f":"IF(D91=\"\",\"\",取りまとめシート!$B$5)","v":""},null,null,null,null,null,null,null,null,null,"","",""]
[87,null,{"$f":"IF(D92=\"\",\"\",取りまとめシート!$B$5)","v":""},null,null,null,null,null,null,null,null,null,"","",""]
[88,null,{"$f":"IF(D93=\"\",\"\",取りまとめシート!$B$5)","v":""},null,null,null,null,null,null,null,null,null,"","",""]
[89,null,{"$f":"IF(D94=\"\",\"\",取りまとめシート!$B$5)","v":""},null,null,null,null,null,null,null,null,null,"","",""]
[90,null,{"$f":"IF(D95=\"\",\"\",取りまとめシート!$B$5)","v":""},null,null,null,null,null,null,null,null,null,"","",""]
[91,null,{"$f":"IF(D96=\"\",\"\",取りまとめシート!$B$5)","v":""},null,null,null,null,null,null,null,null,null,"","",""]
[92,null,{"$f":"IF(D97=\"\",\"\",取りまとめシート!$B$5)","v":""},null,null,null,null,null,null,null,null,null,"","",""]
[93,null,{"$f":"IF(D98=\"\",\"\",取りまとめシート!$B$5)","v":""},null,null,null,null,null,null,null,null,null,"","",""]
[94,null,{"$f":"IF(D99=\"\",\"\",取りまとめシート!$B$5)","v":""},null,null,null,null,null,null,null,null,null,"","",""]
[95,null,{"$f":"IF(D100=\"\",\"\",取りまとめシート!$B$5)","v":""},null,null,null,null,null,null,null,null,null,"","",""]
[96,null,{"$f":"IF(D101=\"\",\"\",取りまとめシート!$B$5)","v":""},null,null,null,null,null,null,null,null,null,"","",""]
[97,null,{"$f":"IF(D102=\"\",\"\",取りまとめシート!$B$5)","v":""},null,null,null,null,null,null,null,null,null,"","",""]
[98,null,{"$f":"IF(D103=\"\",\"\",取りまとめシート!$B$5)","v":""},null,null,null,null,null,null,null,null,null,"","",""]
[99,null,{"$f":"IF(D104=\"\",\"\",取りまとめシート!$B$5)","v":""},null,null,null,null,null,null,null,null,null,"","",""]
[100,null,{"$f":"IF(D105=\"\",\"\",取りまとめシート!$B$5)","v":""},null,null,null,null,null,null,null,null,null,"","",""]
[null,null,null,null,null,null,null,null,null,null,null,null,{"$f":"IF(F102=\"〇\",VLOOKUP($B102,$O$3:$P$9,2,0),\"\")","v":""},"",{"$f":"IF(H102=\"〇\",VLOOKUP($B102,$O$3:$P$9,2,0),\"\")","v":""}]
[null,null,null,null,null,null,null,null,null,null,null,null,{"$f":"IF(F103=\"〇\",VLOOKUP($B103,$O$3:$P$9,2,0),\"\")","v":""},"",{"$f":"IF(H103=\"〇\",VLOOKUP($B103,$O$3:$P$9,2,0),\"\")","v":""}]
[null,null,null,null,null,null,null,null,null,null,null,null,{"$f":"IF(F104=\"〇\",VLOOKUP($B104,$O$3:$P$9,2,0),\"\")","v":""},"",{"$f":"IF(H104=\"〇\",VLOOKUP($B104,$O$3:$P$9,2,0),\"\")","v":""}]
[null,null,null,null,null,null,null,null,null,null,null,null,{"$f":"IF(F105=\"〇\",VLOOKUP($B105,$O$3:$P$9,2,0),\"\")","v":""},"",{"$f":"IF(H105=\"〇\",VLOOKUP($B105,$O$3:$P$9,2,0),\"\")","v":""}]

{"sheet":"女子申込(形・組手共通) ","index":2,"n_rows":109,"n_cols":19,"rows_kept":109,"cut":false,"hidden":false,"merged":[[0,0,0,9],[1,0,2,9],[1,15,2,15],[1,16,2,16],[1,18,2,18],[0,15,0,18],[1,17,2,17],[3,10,4,10],[3,0,4,0],[3,1,4,1],[3,2,4,2],[3,3,4,3],[3,5,3,7],[3,8,3,9],[3,4,4,4]]}
["第３６回佐賀県少年少女空手道選手権大会　参加申込書（女子）",null,null,null,null,null,null,null,null,null,null,null,null,null,null,"参加人数表（女子）"]
["注意1：名前は左詰めです。姓の前にスペースを入れないで下さい。\n注意2：「氏名」および「ふりがな」の入力は姓と名の間は必ず全角スペースを入れて下さい。",null,null,null,null,null,null,null,null,null,null,null,null,null,null,"学年","形","団体　　　形","組手"]
[]
["番号","学年","所属団体名\n（自動入力）","氏　　名","ふりがな","参加種目",null,null,"昨年度同大会の順位",null,null,null,null,null,1,"小学１年",{"$f":"COUNTIF($M$10:$M$109,\"小学１年\")","v":0},"-",{"$f":"COUNTIF($O$10:$O$109,\"小学１年\")","v":0}]
[null,null,null,null,null,"形","団体形","組手","形","組手",null,null,"〇",null,2,"小学２年",{"$f":"COUNTIF($M$10:$M$109,\"小学２年\")","v":0},"-",{"$f":"COUNTIF($O$10:$O$109,\"小学２年\")","v":0}]
[1,null,{"$f":"IF(D6=\"\",\"\",取りまとめシート!$B$5)","v":""},null,null,null,null,null,null,null,null,null,"－",null,3,"小学３年",{"$f":"COUNTIF($M$10:$M$109,\"小学３年\")","v":0},"-",{"$f":"COUNTIF($O$10:$O$109,\"小学３年\")","v":0}]
[2,null,{"$f":"IF(D7=\"\",\"\",取りまとめシート!$B$5)","v":""},null,null,null,null,null,null,null,null,null,null,null,4,"小学４年",{"$f":"COUNTIF($M$10:$M$109,\"小学４年\")","v":0},{"$f":"COUNTIF($N$10:$N$109,\"小学４年\")","v":0},{"$f":"COUNTIF($O$10:$O$109,\"小学４年\")","v":0}]
[3,null,{"$f":"IF(D8=\"\",\"\",取りまとめシート!$B$5)","v":""},null,null,null,null,null,null,null,null,null,null,null,5,"小学５年",{"$f":"COUNTIF($M$10:$M$109,\"小学５年\")","v":0},{"$f":"COUNTIF($N$10:$N$109,\"小学５年\")","v":0},{"$f":"COUNTIF($O$10:$O$109,\"小学５年\")","v":0}]
[4,null,{"$f":"IF(D9=\"\",\"\",取りまとめシート!$B$5)","v":""},null,null,null,null,null,null,null,null,null,null,null,6,"小学６年",{"$f":"COUNTIF($M$10:$M$109,\"小学６年\")","v":0},{"$f":"COUNTIF($N$10:$N$109,\"小学６年\")","v":0},{"$f":"COUNTIF($O$10:$O$109,\"小学６年\")","v":0}]
[5,null,{"$f":"IF(D10=\"\",\"\",取りまとめシート!$B$5)","v":""},null,null,null,null,null,null,null,null,null,{"$f":"IF(F6=\"〇\",VLOOKUP($B6,$O$3:$P$9,2,0),\"\")","v":""},{"$f":"IF(G6=\"〇\",VLOOKUP($B6,$O$3:$P$9,2,0),\"\")","v":""},{"$f":"IF(H6=\"〇\",VLOOKUP($B6,$O$3:$P$9,2,0),\"\")","v":""}]
[6,null,{"$f":"IF(D11=\"\",\"\",取りまとめシート!$B$5)","v":""},null,null,null,null,null,null,null,null,null,{"$f":"IF(F7=\"〇\",VLOOKUP($B7,$O$3:$P$9,2,0),\"\")","v":""},{"$f":"IF(G7=\"〇\",VLOOKUP($B7,$O$3:$P$9,2,0),\"\")","v":""},{"$f":"IF(H7=\"〇\",VLOOKUP($B7,$O$3:$P$9,2,0),\"\")","v":""}]
[7,null,{"$f":"IF(D12=\"\",\"\",取りまとめシート!$B$5)","v":""},null,null,null,null,null,null,null,null,null,{"$f":"IF(F8=\"〇\",VLOOKUP($B8,$O$3:$P$9,2,0),\"\")","v":""},{"$f":"IF(G8=\"〇\",VLOOKUP($B8,$O$3:$P$9,2,0),\"\")","v":""},""]
[8,null,{"$f":"IF(D13=\"\",\"\",取りまとめシート!$B$5)","v":""},null,null,null,null,null,null,null,null,null,"","",""]
[9,null,{"$f":"IF(D14=\"\",\"\",取りまとめシート!$B$5)","v":""},null,null,null,null,null,null,null,null,null,"","",""]
[10,null,{"$f":"IF(D15=\"\",\"\",取りまとめシート!$B$5)","v":""},null,null,null,null,null,null,null,null,null,"","",""]
[11,null,{"$f":"IF(D16=\"\",\"\",取りまとめシート!$B$5)","v":""},null,null,null,null,null,null,null,null,null,"","",""]
[12,null,{"$f":"IF(D17=\"\",\"\",取りまとめシート!$B$5)","v":""},null,null,null,null,null,null,null,null,null,"","",""]
[13,null,{"$f":"IF(D18=\"\",\"\",取りまとめシート!$B$5)","v":""},null,null,null,null,null,null,null,null,null,"","",""]
[14,null,{"$f":"IF(D19=\"\",\"\",取りまとめシート!$B$5)","v":""},null,null,null,null,null,null,null,null,null,"","",""]
[15,null,{"$f":"IF(D20=\"\",\"\",取りまとめシート!$B$5)","v":""},null,null,null,null,null,null,null,null,null,"","",""]
[16,null,{"$f":"IF(D21=\"\",\"\",取りまとめシート!$B$5)","v":""},null,null,null,null,null,null,null,null,null,"","",""]
[17,null,{"$f":"IF(D22=\"\",\"\",取りまとめシート!$B$5)","v":""},null,null,null,null,null,null,null,null,null,"","",""]
[18,null,{"$f":"IF(D23=\"\",\"\",取りまとめシート!$B$5)","v":""},null,null,null,null,null,null,null,null,null,"","",""]
[19,null,{"$f":"IF(D24=\"\",\"\",取りまとめシート!$B$5)","v":""},null,null,null,null,null,null,null,null,null,"","",""]
[20,null,{"$f":"IF(D25=\"\",\"\",取りまとめシート!$B$5)","v":""},null,null,null,null,null,null,null,null,null,{"$f":"IF(F21=\"〇\",VLOOKUP($B21,$O$3:$P$9,2,0),\"\")","v":""},"",{"$f":"IF(H21=\"〇\",VLOOKUP($B21,$O$3:$P$9,2,0),\"\")","v":""}]
[21,null,{"$f":"IF(D26=\"\",\"\",取りまとめシート!$B$5)","v":""},null,null,null,null,null,null,null,null,null,"","",""]
[22,null,{"$f":"IF(D27=\"\",\"\",取りまとめシート!$B$5)","v":""},null,null,null,null,null,null,null,null,null,"","",""]
[23,null,{"$f":"IF(D28=\"\",\"\",取りまとめシート!$B$5)","v":""},null,null,null,null,null,null,null,null,null,"","",""]
[24,null,{"$f":"IF(D29=\"\",\"\",取りまとめシート!$B$5)","v":""},null,null,null,null,null,null,null,null,null,"","",""]
[25,null,{"$f":"IF(D30=\"\",\"\",取りまとめシート!$B$5)","v":""},null,null,null,null,null,null,null,null,null,"","",""]
[26,null,{"$f":"IF(D31=\"\",\"\",取りまとめシート!$B$5)","v":""},null,null,null,null,null,null,null,null,null,"","",""]
[27,null,{"$f":"IF(D32=\"\",\"\",取りまとめシート!$B$5)","v":""},null,null,null,null,null,null,null,null,null,"","",""]
[28,null,{"$f":"IF(D33=\"\",\"\",取りまとめシート!$B$5)","v":""},null,null,null,null,null,null,null,null,null,"","",""]
[29,null,{"$f":"IF(D34=\"\",\"\",取りまとめシート!$B$5)","v":""},null,null,null,null,null,null,null,null,null,"","",""]
[30,null,{"$f":"IF(D35=\"\",\"\",取りまとめシート!$B$5)","v":""},null,null,null,null,null,null,null,null,null,"","",""]
[31,null,{"$f":"IF(D36=\"\",\"\",取りまとめシート!$B$5)","v":""},null,null,null,null,null,null,null,null,null,"","",""]
[32,null,{"$f":"IF(D37=\"\",\"\",取りまとめシート!$B$5)","v":""},null,null,null,null,null,null,null,null,null,"","",""]
[33,null,{"$f":"IF(D38=\"\",\"\",取りまとめシート!$B$5)","v":""},null,null,null,null,null,null,null,null,null,"","",""]
[34,null,{"$f":"IF(D39=\"\",\"\",取りまとめシート!$B$5)","v":""},null,null,null,null,null,null,null,null,null,"","",""]
[35,null,{"$f":"IF(D40=\"\",\"\",取りまとめシート!$B$5)","v":""},null,null,null,null,null,null,null,null,null,"","",""]
[36,null,{"$f":"IF(D41=\"\",\"\",取りまとめシート!$B$5)","v":""},null,null,null,null,null,null,null,null,null,"","",""]
[37,null,{"$f":"IF(D42=\"\",\"\",取りまとめシート!$B$5)","v":""},null,null,null,null,null,null,null,null,null,"","",""]
[38,null,{"$f":"IF(D43=\"\",\"\",取りまとめシート!$B$5)","v":""},null,null,null,null,null,null,null,null,null,"","",""]
[39,null,{"$f":"IF(D44=\"\",\"\",取りまとめシート!$B$5)","v":""},null,null,null,null,null,null,null,null,null,{"$f":"IF(F40=\"〇\",VLOOKUP($B40,$O$3:$P$9,2,0),\"\")","v":""},"",{"$f":"IF(H40=\"〇\",VLOOKUP($B40,$O$3:$P$9,2,0),\"\")","v":""}]
[40,null,{"$f":"IF(D45=\"\",\"\",取りまとめシート!$B$5)","v":""},null,null,null,null,null,null,null,null,null,"","",""]
[41,null,{"$f":"IF(D46=\"\",\"\",取りまとめシート!$B$5)","v":""},null,null,null,null,null,null,null,null,null,"","",""]
[42,null,{"$f":"IF(D47=\"\",\"\",取りまとめシート!$B$5)","v":""},null,null,null,null,null,null,null,null,null,"","",""]
[43,null,{"$f":"IF(D48=\"\",\"\",取りまとめシート!$B$5)","v":""},null,null,null,null,null,null,null,null,null,"","",""]
[44,null,{"$f":"IF(D49=\"\",\"\",取りまとめシート!$B$5)","v":""},null,null,null,null,null,null,null,null,null,"","",""]
[45,null,{"$f":"IF(D50=\"\",\"\",取りまとめシート!$B$5)","v":""},null,null,null,null,null,null,null,null,null,"","",""]
[46,null,{"$f":"IF(D51=\"\",\"\",取りまとめシート!$B$5)","v":""},null,null,null,null,null,null,null,null,null,"","",""]
[47,null,{"$f":"IF(D52=\"\",\"\",取りまとめシート!$B$5)","v":""},null,null,null,null,null,null,null,null,null,"","",""]
[48,null,{"$f":"IF(D53=\"\",\"\",取りまとめシート!$B$5)","v":""},null,null,null,null,null,null,null,null,null,"","",""]
[49,null,{"$f":"IF(D54=\"\",\"\",取りまとめシート!$B$5)","v":""},null,null,null,null,null,null,null,null,null,"","",""]
[50,null,{"$f":"IF(D55=\"\",\"\",取りまとめシート!$B$5)","v":""},null,null,null,null,null,null,null,null,null,"","",""]
[51,null,{"$f":"IF(D56=\"\",\"\",取りまとめシート!$B$5)","v":""},null,null,null,null,null,null,null,null,null,"","",""]
[52,null,{"$f":"IF(D57=\"\",\"\",取りまとめシート!$B$5)","v":""},null,null,null,null,null,null,null,null,null,"","",""]
[53,null,{"$f":"IF(D58=\"\",\"\",取りまとめシート!$B$5)","v":""},null,null,null,null,null,null,null,null,null,"","",""]
[54,null,{"$f":"IF(D59=\"\",\"\",取りまとめシート!$B$5)","v":""},null,null,null,null,null,null,null,null,null,"","",""]
[55,null,{"$f":"IF(D60=\"\",\"\",取りまとめシート!$B$5)","v":""},null,null,null,null,null,null,null,null,null,"","",""]
[56,null,{"$f":"IF(D61=\"\",\"\",取りまとめシート!$B$5)","v":""},null,null,null,null,null,null,null,null,null,"","",""]
[57,null,{"$f":"IF(D62=\"\",\"\",取りまとめシート!$B$5)","v":""},null,null,null,null,null,null,null,null,null,"","",""]
[58,null,{"$f":"IF(D63=\"\",\"\",取りまとめシート!$B$5)","v":""},null,null,null,null,null,null,null,null,null,"","",""]
[59,null,{"$f":"IF(D64=\"\",\"\",取りまとめシート!$B$5)","v":""},null,null,null,null,null,null,null,null,null,"","",""]
[60,null,{"$f":"IF(D65=\"\",\"\",取りまとめシート!$B$5)","v":""},null,null,null,null,null,null,null,null,null,"","",""]
[61,null,{"$f":"IF(D66=\"\",\"\",取りまとめシート!$B$5)","v":""},null,null,null,null,null,null,null,null,null,"","",""]
[62,null,{"$f":"IF(D67=\"\",\"\",取りまとめシート!$B$5)","v":""},null,null,null,null,null,null,null,null,null,"","",""]
[63,null,{"$f":"IF(D68=\"\",\"\",取りまとめシート!$B$5)","v":""},null,null,null,null,null,null,null,null,null,"","",""]
[64,null,{"$f":"IF(D69=\"\",\"\",取りまとめシート!$B$5)","v":""},null,null,null,null,null,null,null,null,null,"","",""]
[65,null,{"$f":"IF(D70=\"\",\"\",取りまとめシート!$B$5)","v":""},null,null,null,null,null,null,null,null,null,"","",""]
[66,null,{"$f":"IF(D71=\"\",\"\",取りまとめシート!$B$5)","v":""},null,null,null,null,null,null,null,null,null,"","",""]
[67,null,{"$f":"IF(D72=\"\",\"\",取りまとめシート!$B$5)","v":""},null,null,null,null,null,null,null,null,null,"","",""]
[68,null,{"$f":"IF(D73=\"\",\"\",取りまとめシート!$B$5)","v":""},null,null,null,null,null,null,null,null,null,"","",""]
[69,null,{"$f":"IF(D74=\"\",\"\",取りまとめシート!$B$5)","v":""},null,null,null,null,null,null,null,null,null,"","",{"$f":"IF(H70=\"〇\",VLOOKUP($B70,$O$3:$P$9,2,0),\"\")","v":""}]
[70,null,{"$f":"IF(D75=\"\",\"\",取りまとめシート!$B$5)","v":""},null,null,null,null,null,null,null,null,null,"","",""]
[71,null,{"$f":"IF(D76=\"\",\"\",取りまとめシート!$B$5)","v":""},null,null,null,null,null,null,null,null,null,{"$f":"IF(F72=\"〇\",VLOOKUP($B72,$O$3:$P$9,2,0),\"\")","v":""},{"$f":"IF(G72=\"〇\",VLOOKUP($B72,$O$3:$P$9,2,0),\"\")","v":""},""]
[72,null,{"$f":"IF(D77=\"\",\"\",取りまとめシート!$B$5)","v":""},null,null,null,null,null,null,null,null,null,"","",""]
[73,null,{"$f":"IF(D78=\"\",\"\",取りまとめシート!$B$5)","v":""},null,null,null,null,null,null,null,null,null,"","",""]
[74,null,{"$f":"IF(D79=\"\",\"\",取りまとめシート!$B$5)","v":""},null,null,null,null,null,null,null,null,null,"","",""]
[75,null,{"$f":"IF(D80=\"\",\"\",取りまとめシート!$B$5)","v":""},null,null,null,null,null,null,null,null,null,"","",""]
[76,null,{"$f":"IF(D81=\"\",\"\",取りまとめシート!$B$5)","v":""},null,null,null,null,null,null,null,null,null,"","",""]
[77,null,{"$f":"IF(D82=\"\",\"\",取りまとめシート!$B$5)","v":""},null,null,null,null,null,null,null,null,null,"","",""]
[78,null,{"$f":"IF(D83=\"\",\"\",取りまとめシート!$B$5)","v":""},null,null,null,null,null,null,null,null,null,"","",""]
[79,null,{"$f":"IF(D84=\"\",\"\",取りまとめシート!$B$5)","v":""},null,null,null,null,null,null,null,null,null,"","",""]
[80,null,{"$f":"IF(D85=\"\",\"\",取りまとめシート!$B$5)","v":""},null,null,null,null,null,null,null,null,null,"","",""]
[81,null,{"$f":"IF(D86=\"\",\"\",取りまとめシート!$B$5)","v":""},null,null,null,null,null,null,null,null,null,"","",""]
[82,null,{"$f":"IF(D87=\"\",\"\",取りまとめシート!$B$5)","v":""},null,null,null,null,null,null,null,null,null,"","",""]
[83,null,{"$f":"IF(D88=\"\",\"\",取りまとめシート!$B$5)","v":""},null,null,null,null,null,null,null,null,null,"","",""]
[84,null,{"$f":"IF(D89=\"\",\"\",取りまとめシート!$B$5)","v":""},null,null,null,null,null,null,null,null,null,"","",""]
[85,null,{"$f":"IF(D90=\"\",\"\",取りまとめシート!$B$5)","v":""},null,null,null,null,null,null,null,null,null,"","",""]
[86,null,{"$f":"IF(D91=\"\",\"\",取りまとめシート!$B$5)","v":""},null,null,null,null,null,null,null,null,null,"","",""]
[87,null,{"$f":"IF(D92=\"\",\"\",取りまとめシート!$B$5)","v":""},null,null,null,null,null,null,null,null,null,"","",""]
[88,null,{"$f":"IF(D93=\"\",\"\",取りまとめシート!$B$5)","v":""},null,null,null,null,null,null,null,null,null,"","",""]
[89,null,{"$f":"IF(D94=\"\",\"\",取りまとめシート!$B$5)","v":""},null,null,null,null,null,null,null,null,null,"","",""]
[90,null,{"$f":"IF(D95=\"\",\"\",取りまとめシート!$B$5)","v":""},null,null,null,null,null,null,null,null,null,"","",""]
[91,null,{"$f":"IF(D96=\"\",\"\",取りまとめシート!$B$5)","v":""},null,null,null,null,null,null,null,null,null,"","",""]
[92,null,{"$f":"IF(D97=\"\",\"\",取りまとめシート!$B$5)","v":""},null,null,null,null,null,null,null,null,null,"","",""]
[93,null,{"$f":"IF(D98=\"\",\"\",取りまとめシート!$B$5)","v":""},null,null,null,null,null,null,null,null,null,"","",""]
[94,null,{"$f":"IF(D99=\"\",\"\",取りまとめシート!$B$5)","v":""},null,null,null,null,null,null,null,null,null,"","",""]
[95,null,{"$f":"IF(D100=\"\",\"\",取りまとめシート!$B$5)","v":""},null,null,null,null,null,null,null,null,null,"","",""]
[96,null,{"$f":"IF(D101=\"\",\"\",取りまとめシート!$B$5)","v":""},null,null,null,null,null,null,null,null,null,"","",""]
[97,null,{"$f":"IF(D102=\"\",\"\",取りまとめシート!$B$5)","v":""},null,null,null,null,null,null,null,null,null,"","",""]
[98,null,{"$f":"IF(D103=\"\",\"\",取りまとめシート!$B$5)","v":""},null,null,null,null,null,null,null,null,null,"","",""]
[99,null,{"$f":"IF(D104=\"\",\"\",取りまとめシート!$B$5)","v":""},null,null,null,null,null,null,null,null,null,"","",""]
[100,null,{"$f":"IF(D105=\"\",\"\",取りまとめシート!$B$5)","v":""},null,null,null,null,null,null,null,null,null,"","",""]
[null,null,null,null,null,null,null,null,null,null,null,null,"",null,""]
[null,null,null,null,null,null,null,null,null,null,null,null,"",null,""]
[null,null,null,null,null,null,null,null,null,null,null,null,{"$f":"IF(F104=\"〇\",VLOOKUP($B104,$O$3:$P$9,2,0),\"\")","v":""},null,""]
[null,null,null,null,null,null,null,null,null,null,null,null,{"$f":"IF(F105=\"〇\",VLOOKUP($B105,$O$3:$P$9,2,0),\"\")","v":""},null,{"$f":"IF(H105=\"〇\",VLOOKUP($B105,$O$3:$P$9,2,0),\"\")","v":""}]